Package: HPAanalyze Version: 1.27.2 Command: chmod a+r HPAanalyze -R && F:\biocbuild\bbs-3.22-bioc\R\bin\R.exe CMD build --keep-empty-dirs --no-resave-data HPAanalyze StartedAt: 2025-07-24 19:54:47 -0400 (Thu, 24 Jul 2025) EndedAt: 2025-07-24 19:55:46 -0400 (Thu, 24 Jul 2025) EllapsedTime: 59.0 seconds RetCode: 0 Status: OK PackageFile: HPAanalyze_1.27.2.tar.gz PackageFileSize: 2.438 MiB