Package: HPAanalyze Version: 1.27.2 Command: /Library/Frameworks/R.framework/Resources/bin/R CMD check --install=check:HPAanalyze.install-out.txt --library=/Library/Frameworks/R.framework/Resources/library --no-vignettes --timings HPAanalyze_1.27.2.tar.gz StartedAt: 2025-07-22 21:23:35 -0400 (Tue, 22 Jul 2025) EndedAt: 2025-07-22 21:25:25 -0400 (Tue, 22 Jul 2025) EllapsedTime: 109.7 seconds RetCode: 0 Status: OK CheckDir: HPAanalyze.Rcheck Warnings: 0