Package: HPAanalyze Version: 1.27.2 Command: /Library/Frameworks/R.framework/Resources/bin/R CMD INSTALL HPAanalyze StartedAt: 2025-07-14 15:05:29 -0400 (Mon, 14 Jul 2025) EndedAt: 2025-07-14 15:05:41 -0400 (Mon, 14 Jul 2025) EllapsedTime: 12.0 seconds RetCode: 0 Status: OK