Package: HPAanalyze Version: 1.27.2 Command: /Library/Frameworks/R.framework/Resources/bin/R CMD build --keep-empty-dirs --no-resave-data HPAanalyze StartedAt: 2025-07-14 16:36:44 -0400 (Mon, 14 Jul 2025) EndedAt: 2025-07-14 16:37:50 -0400 (Mon, 14 Jul 2025) EllapsedTime: 65.7 seconds RetCode: 0 Status: OK PackageFile: HPAanalyze_1.27.2.tar.gz PackageFileSize: 2.664 MiB