Package: HMMcopy Version: 1.51.0 Command: /home/biocbuild/bbs-3.22-bioc/R/bin/R CMD check --install=check:HMMcopy.install-out.txt --library=/home/biocbuild/bbs-3.22-bioc/R/site-library --timings HMMcopy_1.51.0.tar.gz StartedAt: 2025-07-02 23:21:51 -0400 (Wed, 02 Jul 2025) EndedAt: 2025-07-02 23:22:28 -0400 (Wed, 02 Jul 2025) EllapsedTime: 37.2 seconds RetCode: 0 Status: WARNINGS CheckDir: HMMcopy.Rcheck Warnings: 1