Package: HMMcopy Version: 1.51.0 Command: /home/biocbuild/bbs-3.22-bioc/R/bin/R CMD build --keep-empty-dirs --no-resave-data --md5 HMMcopy StartedAt: 2025-07-02 17:49:17 -0400 (Wed, 02 Jul 2025) EndedAt: 2025-07-02 17:49:28 -0400 (Wed, 02 Jul 2025) EllapsedTime: 11.0 seconds RetCode: 0 Status: OK PackageFile: HMMcopy_1.51.0.tar.gz PackageFileSize: 2.165 MiB