Package: HMMcopy Version: 1.51.0 Command: /Library/Frameworks/R.framework/Resources/bin/R CMD check --install=check:HMMcopy.install-out.txt --library=/Library/Frameworks/R.framework/Resources/library --no-vignettes --timings HMMcopy_1.51.0.tar.gz StartedAt: 2025-07-17 21:13:48 -0400 (Thu, 17 Jul 2025) EndedAt: 2025-07-17 21:14:25 -0400 (Thu, 17 Jul 2025) EllapsedTime: 37.7 seconds RetCode: 0 Status: WARNINGS CheckDir: HMMcopy.Rcheck Warnings: 1