Package: HMMcopy Version: 1.51.0 Command: /Library/Frameworks/R.framework/Resources/bin/R CMD build --keep-empty-dirs --no-resave-data HMMcopy StartedAt: 2025-07-16 17:14:26 -0400 (Wed, 16 Jul 2025) EndedAt: 2025-07-16 17:14:54 -0400 (Wed, 16 Jul 2025) EllapsedTime: 27.4 seconds RetCode: 0 Status: OK PackageFile: HMMcopy_1.51.0.tar.gz PackageFileSize: 1.777 MiB