Package: HIREewas Version: 1.27.0 Command: /home/biocbuild/R/R/bin/R CMD check --install=check:HIREewas.install-out.txt --library=/home/biocbuild/R/R/site-library --no-vignettes --timings HIREewas_1.27.0.tar.gz StartedAt: 2025-07-01 08:25:48 -0000 (Tue, 01 Jul 2025) EndedAt: 2025-07-01 08:27:21 -0000 (Tue, 01 Jul 2025) EllapsedTime: 93.1 seconds RetCode: 0 Status: OK CheckDir: HIREewas.Rcheck Warnings: 0