Package: HIREewas Version: 1.27.0 Command: F:\biocbuild\bbs-3.22-bioc\R\bin\R.exe CMD INSTALL HIREewas StartedAt: 2025-07-24 15:29:13 -0400 (Thu, 24 Jul 2025) EndedAt: 2025-07-24 15:29:30 -0400 (Thu, 24 Jul 2025) EllapsedTime: 16.3 seconds RetCode: 0 Status: OK