Package: HIPPO Version: 1.21.0 Command: /home/biocbuild/R/R/bin/R CMD build --keep-empty-dirs --no-resave-data HIPPO StartedAt: 2025-10-03 00:38:54 -0000 (Fri, 03 Oct 2025) EndedAt: 2025-10-03 00:39:50 -0000 (Fri, 03 Oct 2025) EllapsedTime: 55.0 seconds RetCode: 0 Status: OK PackageFile: HIPPO_1.21.0.tar.gz PackageFileSize: 537.8 KiB