Package: HIPPO Version: 1.21.0 Command: F:\biocbuild\bbs-3.22-bioc\R\bin\R.exe CMD check --no-multiarch --install=check:HIPPO.install-out.txt --library=F:\biocbuild\bbs-3.22-bioc\R\library --no-vignettes --timings HIPPO_1.21.0.tar.gz StartedAt: 2025-07-02 02:53:46 -0400 (Wed, 02 Jul 2025) EndedAt: 2025-07-02 02:57:34 -0400 (Wed, 02 Jul 2025) EllapsedTime: 228.5 seconds RetCode: 0 Status: OK CheckDir: HIPPO.Rcheck Warnings: 0