Package: HIBAG Version: 1.45.0 Command: /home/biocbuild/R/R/bin/R CMD INSTALL HIBAG StartedAt: 2025-07-24 20:58:43 -0000 (Thu, 24 Jul 2025) EndedAt: 2025-07-24 20:59:21 -0000 (Thu, 24 Jul 2025) EllapsedTime: 38.0 seconds RetCode: 0 Status: OK