Package: HIBAG Version: 1.45.0 Command: /home/biocbuild/bbs-3.22-bioc/R/bin/R CMD build --keep-empty-dirs --no-resave-data --md5 HIBAG StartedAt: 2025-07-04 17:33:05 -0400 (Fri, 04 Jul 2025) EndedAt: 2025-07-04 17:33:47 -0400 (Fri, 04 Jul 2025) EllapsedTime: 42.1 seconds RetCode: 0 Status: OK PackageFile: HIBAG_1.45.0.tar.gz PackageFileSize: 1.789 MiB