Package: HIBAG Version: 1.45.0 Command: /Library/Frameworks/R.framework/Resources/bin/R CMD INSTALL HIBAG StartedAt: 2025-07-22 15:04:23 -0400 (Tue, 22 Jul 2025) EndedAt: 2025-07-22 15:04:56 -0400 (Tue, 22 Jul 2025) EllapsedTime: 32.9 seconds RetCode: 0 Status: OK