Package: HIBAG Version: 1.45.0 Command: rm -rf HIBAG.buildbin-libdir && mkdir HIBAG.buildbin-libdir && /Users/biocbuild/BBS/utils/build-universal.sh HIBAG_1.45.0.tar.gz /Library/Frameworks/R.framework/Resources/bin/R HIBAG.buildbin-libdir StartedAt: 2025-07-23 01:10:12 -0400 (Wed, 23 Jul 2025) EndedAt: 2025-07-23 01:10:49 -0400 (Wed, 23 Jul 2025) EllapsedTime: 37.0 seconds RetCode: 0 Status: OK PackageFile: HIBAG_1.45.0.tgz PackageFileSize: 2.211 MiB