Package: HIBAG Version: 1.45.0 Command: /Library/Frameworks/R.framework/Resources/bin/R CMD build --keep-empty-dirs --no-resave-data HIBAG StartedAt: 2025-07-16 16:34:25 -0400 (Wed, 16 Jul 2025) EndedAt: 2025-07-16 16:34:39 -0400 (Wed, 16 Jul 2025) EllapsedTime: 14.2 seconds RetCode: 0 Status: OK PackageFile: HIBAG_1.45.0.tar.gz PackageFileSize: 1.813 MiB