Package: HIBAG Version: 1.45.0 Command: rm -rf HIBAG.buildbin-libdir && mkdir HIBAG.buildbin-libdir && /Users/biocbuild/BBS/utils/build-universal.sh HIBAG_1.45.0.tar.gz /Library/Frameworks/R.framework/Resources/bin/R HIBAG.buildbin-libdir StartedAt: 2025-07-14 22:21:54 -0400 (Mon, 14 Jul 2025) EndedAt: 2025-07-14 22:22:03 -0400 (Mon, 14 Jul 2025) EllapsedTime: 8.2 seconds RetCode: 0 Status: OK PackageFile: HIBAG_1.45.0.tgz PackageFileSize: 2.183 MiB