Package: HGC Version: 1.17.0 Command: /home/biocbuild/R/R/bin/R CMD check --install=check:HGC.install-out.txt --library=/home/biocbuild/R/R/site-library --no-vignettes --timings HGC_1.17.0.tar.gz StartedAt: 2025-07-15 08:25:35 -0000 (Tue, 15 Jul 2025) EndedAt: 2025-07-15 08:29:47 -0000 (Tue, 15 Jul 2025) EllapsedTime: 252.4 seconds RetCode: 0 Status: WARNINGS CheckDir: HGC.Rcheck Warnings: 2