Package: HGC Version: 1.17.0 Command: /home/biocbuild/R/R/bin/R CMD build --keep-empty-dirs --no-resave-data HGC StartedAt: 2025-07-11 01:26:32 -0000 (Fri, 11 Jul 2025) EndedAt: 2025-07-11 01:27:37 -0000 (Fri, 11 Jul 2025) EllapsedTime: 64.0 seconds RetCode: 0 Status: OK PackageFile: HGC_1.17.0.tar.gz PackageFileSize: 445.3 KiB