Package: HGC Version: 1.17.0 Command: /Library/Frameworks/R.framework/Resources/bin/R CMD INSTALL HGC StartedAt: 2025-07-01 15:24:26 -0400 (Tue, 01 Jul 2025) EndedAt: 2025-07-01 15:25:06 -0400 (Tue, 01 Jul 2025) EllapsedTime: 39.2 seconds RetCode: 0 Status: OK