Package: HGC Version: 1.17.0 Command: /Library/Frameworks/R.framework/Resources/bin/R CMD check --install=check:HGC.install-out.txt --library=/Library/Frameworks/R.framework/Resources/library --no-vignettes --timings HGC_1.17.0.tar.gz StartedAt: 2025-07-01 21:18:09 -0400 (Tue, 01 Jul 2025) EndedAt: 2025-07-01 21:21:29 -0400 (Tue, 01 Jul 2025) EllapsedTime: 200.4 seconds RetCode: 0 Status: WARNINGS CheckDir: HGC.Rcheck Warnings: 1