Package: HGC Version: 1.17.0 Command: /Library/Frameworks/R.framework/Resources/bin/R CMD build --keep-empty-dirs --no-resave-data HGC StartedAt: 2025-07-01 17:16:18 -0400 (Tue, 01 Jul 2025) EndedAt: 2025-07-01 17:17:07 -0400 (Tue, 01 Jul 2025) EllapsedTime: 49.1 seconds RetCode: 0 Status: OK PackageFile: HGC_1.17.0.tar.gz PackageFileSize: 540.2 KiB