Package: HGC Version: 1.17.0 Command: /Library/Frameworks/R.framework/Resources/bin/R CMD INSTALL HGC StartedAt: 2025-07-07 15:05:23 -0400 (Mon, 07 Jul 2025) EndedAt: 2025-07-07 15:05:36 -0400 (Mon, 07 Jul 2025) EllapsedTime: 12.8 seconds RetCode: 0 Status: OK