Package: HGC Version: 1.17.0 Command: /Library/Frameworks/R.framework/Resources/bin/R CMD build --keep-empty-dirs --no-resave-data HGC StartedAt: 2025-07-07 16:32:48 -0400 (Mon, 07 Jul 2025) EndedAt: 2025-07-07 16:33:03 -0400 (Mon, 07 Jul 2025) EllapsedTime: 15.1 seconds RetCode: 0 Status: OK PackageFile: HGC_1.17.0.tar.gz PackageFileSize: 540.3 KiB