Package: HGC Version: 1.17.0 Command: rm -rf HGC.buildbin-libdir && mkdir HGC.buildbin-libdir && /Users/biocbuild/BBS/utils/build-universal.sh HGC_1.17.0.tar.gz /Library/Frameworks/R.framework/Resources/bin/R HGC.buildbin-libdir StartedAt: 2025-07-07 22:19:31 -0400 (Mon, 07 Jul 2025) EndedAt: 2025-07-07 22:19:43 -0400 (Mon, 07 Jul 2025) EllapsedTime: 12.3 seconds RetCode: 0 Status: OK PackageFile: HGC_1.17.0.tgz PackageFileSize: 614 KiB