Package: HEM Version: 1.81.0 Command: /home/biocbuild/R/R/bin/R CMD check --install=check:HEM.install-out.txt --library=/home/biocbuild/R/R/site-library --no-vignettes --timings HEM_1.81.0.tar.gz StartedAt: 2025-07-22 08:15:38 -0000 (Tue, 22 Jul 2025) EndedAt: 2025-07-22 08:17:09 -0000 (Tue, 22 Jul 2025) EllapsedTime: 91.1 seconds RetCode: 0 Status: OK CheckDir: HEM.Rcheck Warnings: 0