Package: HEM Version: 1.81.0 Command: /Library/Frameworks/R.framework/Resources/bin/R CMD INSTALL HEM StartedAt: 2025-07-11 15:13:53 -0400 (Fri, 11 Jul 2025) EndedAt: 2025-07-11 15:14:03 -0400 (Fri, 11 Jul 2025) EllapsedTime: 10.2 seconds RetCode: 0 Status: OK