Package: HEM Version: 1.81.0 Command: /Library/Frameworks/R.framework/Resources/bin/R CMD build --keep-empty-dirs --no-resave-data HEM StartedAt: 2025-07-20 16:35:00 -0400 (Sun, 20 Jul 2025) EndedAt: 2025-07-20 16:35:01 -0400 (Sun, 20 Jul 2025) EllapsedTime: 1.0 seconds RetCode: 1 Status: ERROR PackageFile: None PackageFileSize: NA