Package: HDTD Version: 1.43.0 Command: /Library/Frameworks/R.framework/Resources/bin/R CMD INSTALL HDTD StartedAt: 2025-10-14 15:03:59 -0400 (Tue, 14 Oct 2025) EndedAt: 2025-10-14 15:04:18 -0400 (Tue, 14 Oct 2025) EllapsedTime: 18.1 seconds RetCode: 0 Status: OK