Package: HDTD Version: 1.43.0 Command: /Library/Frameworks/R.framework/Resources/bin/R CMD build --keep-empty-dirs --no-resave-data HDTD StartedAt: 2025-10-14 16:38:39 -0400 (Tue, 14 Oct 2025) EndedAt: 2025-10-14 16:38:47 -0400 (Tue, 14 Oct 2025) EllapsedTime: 8.1 seconds RetCode: 0 Status: OK PackageFile: HDTD_1.43.0.tar.gz PackageFileSize: 162.8 KiB