Package: HDTD Version: 1.43.0 Command: rm -rf HDTD.buildbin-libdir && mkdir HDTD.buildbin-libdir && /Users/biocbuild/BBS/utils/build-universal.sh HDTD_1.43.0.tar.gz /Library/Frameworks/R.framework/Resources/bin/R HDTD.buildbin-libdir StartedAt: 2025-10-14 23:24:41 -0400 (Tue, 14 Oct 2025) EndedAt: 2025-10-14 23:24:48 -0400 (Tue, 14 Oct 2025) EllapsedTime: 7.2 seconds RetCode: 0 Status: OK PackageFile: HDTD_1.43.0.tgz PackageFileSize: 303.1 KiB