Package: Gviz Version: 1.53.1 Command: /Library/Frameworks/R.framework/Resources/bin/R CMD check --install=check:Gviz.install-out.txt --library=/Library/Frameworks/R.framework/Resources/library --no-vignettes --timings Gviz_1.53.1.tar.gz StartedAt: 2025-07-13 19:34:07 -0400 (Sun, 13 Jul 2025) EndedAt: 2025-07-13 19:37:27 -0400 (Sun, 13 Jul 2025) EllapsedTime: 200.6 seconds RetCode: 0 Status: OK CheckDir: Gviz.Rcheck Warnings: 0