Package: Gviz Version: 1.53.1 Command: rm -rf Gviz.buildbin-libdir && mkdir Gviz.buildbin-libdir && /Users/biocbuild/BBS/utils/build-universal.sh Gviz_1.53.1.tar.gz /Library/Frameworks/R.framework/Resources/bin/R Gviz.buildbin-libdir StartedAt: 2025-07-13 22:19:36 -0400 (Sun, 13 Jul 2025) EndedAt: 2025-07-13 22:20:04 -0400 (Sun, 13 Jul 2025) EllapsedTime: 27.7 seconds RetCode: 0 Status: OK PackageFile: Gviz_1.53.1.tgz PackageFileSize: 7.818 MiB