Package: Guitar Version: 2.25.0 Command: /home/biocbuild/bbs-3.22-bioc/R/bin/R CMD INSTALL Guitar StartedAt: 2025-10-03 15:44:52 -0400 (Fri, 03 Oct 2025) EndedAt: 2025-10-03 15:45:27 -0400 (Fri, 03 Oct 2025) EllapsedTime: 35.7 seconds RetCode: 0 Status: OK