Package: Guitar Version: 2.25.0 Command: /home/biocbuild/bbs-3.22-bioc/R/bin/R CMD build --keep-empty-dirs --no-resave-data --md5 Guitar StartedAt: 2025-10-05 18:03:26 -0400 (Sun, 05 Oct 2025) EndedAt: 2025-10-05 18:13:10 -0400 (Sun, 05 Oct 2025) EllapsedTime: 583.7 seconds RetCode: 0 Status: OK PackageFile: Guitar_2.25.0.tar.gz PackageFileSize: 3.72 MiB