Package: Guitar Version: 2.25.0 Command: /Library/Frameworks/R.framework/Resources/bin/R CMD INSTALL Guitar StartedAt: 2025-10-05 15:24:05 -0400 (Sun, 05 Oct 2025) EndedAt: 2025-10-05 15:24:21 -0400 (Sun, 05 Oct 2025) EllapsedTime: 15.4 seconds RetCode: 0 Status: OK