Package: Guitar Version: 2.25.0 Command: /Library/Frameworks/R.framework/Resources/bin/R CMD build --keep-empty-dirs --no-resave-data Guitar StartedAt: 2025-10-05 16:41:25 -0400 (Sun, 05 Oct 2025) EndedAt: 2025-10-05 16:45:50 -0400 (Sun, 05 Oct 2025) EllapsedTime: 264.9 seconds RetCode: 0 Status: OK PackageFile: Guitar_2.25.0.tar.gz PackageFileSize: 3.719 MiB