Package: Guitar Version: 2.25.0 Command: rm -rf Guitar.buildbin-libdir && mkdir Guitar.buildbin-libdir && /Users/biocbuild/BBS/utils/build-universal.sh Guitar_2.25.0.tar.gz /Library/Frameworks/R.framework/Resources/bin/R Guitar.buildbin-libdir StartedAt: 2025-10-05 22:45:36 -0400 (Sun, 05 Oct 2025) EndedAt: 2025-10-05 22:45:52 -0400 (Sun, 05 Oct 2025) EllapsedTime: 16.4 seconds RetCode: 0 Status: OK PackageFile: Guitar_2.25.0.tgz PackageFileSize: 3.787 MiB