Package: GreyListChIP Version: 1.41.0 Command: /home/biocbuild/R/R/bin/R CMD build --keep-empty-dirs --no-resave-data GreyListChIP StartedAt: 2025-07-15 00:06:41 -0000 (Tue, 15 Jul 2025) EndedAt: 2025-07-15 00:07:42 -0000 (Tue, 15 Jul 2025) EllapsedTime: 61.0 seconds RetCode: 0 Status: OK PackageFile: GreyListChIP_1.41.0.tar.gz PackageFileSize: 333.8 KiB