Package: GreyListChIP Version: 1.41.0 Command: /Library/Frameworks/R.framework/Resources/bin/R CMD check --install=check:GreyListChIP.install-out.txt --library=/Library/Frameworks/R.framework/Resources/library --no-vignettes --timings GreyListChIP_1.41.0.tar.gz StartedAt: 2025-07-14 19:33:54 -0400 (Mon, 14 Jul 2025) EndedAt: 2025-07-14 19:35:35 -0400 (Mon, 14 Jul 2025) EllapsedTime: 101.3 seconds RetCode: 0 Status: WARNINGS CheckDir: GreyListChIP.Rcheck Warnings: 1