Package: GreyListChIP Version: 1.41.0 Command: rm -rf GreyListChIP.buildbin-libdir && mkdir GreyListChIP.buildbin-libdir && /Users/biocbuild/BBS/utils/build-universal.sh GreyListChIP_1.41.0.tar.gz /Library/Frameworks/R.framework/Resources/bin/R GreyListChIP.buildbin-libdir StartedAt: 2025-07-14 22:21:25 -0400 (Mon, 14 Jul 2025) EndedAt: 2025-07-14 22:21:40 -0400 (Mon, 14 Jul 2025) EllapsedTime: 15.3 seconds RetCode: 0 Status: OK PackageFile: GreyListChIP_1.41.0.tgz PackageFileSize: 896.2 KiB