Package: GrafGen Version: 1.5.0 Command: /Library/Frameworks/R.framework/Resources/bin/R CMD INSTALL GrafGen StartedAt: 2025-07-11 15:16:54 -0400 (Fri, 11 Jul 2025) EndedAt: 2025-07-11 15:17:28 -0400 (Fri, 11 Jul 2025) EllapsedTime: 34.1 seconds RetCode: 0 Status: OK