Package: GmicR Version: 1.23.0 Command: F:\biocbuild\bbs-3.22-bioc\R\bin\R.exe CMD INSTALL GmicR StartedAt: 2025-07-24 16:43:59 -0400 (Thu, 24 Jul 2025) EndedAt: 2025-07-24 16:44:32 -0400 (Thu, 24 Jul 2025) EllapsedTime: 33.7 seconds RetCode: 0 Status: OK