Package: GmicR Version: 1.23.0 Command: rm -rf GmicR.buildbin-libdir && mkdir GmicR.buildbin-libdir && F:\biocbuild\bbs-3.22-bioc\R\bin\R.exe CMD INSTALL --build --library=GmicR.buildbin-libdir GmicR_1.23.0.tar.gz StartedAt: 2025-07-25 09:23:03 -0400 (Fri, 25 Jul 2025) EndedAt: 2025-07-25 09:23:44 -0400 (Fri, 25 Jul 2025) EllapsedTime: 40.9 seconds RetCode: 0 Status: OK PackageFile: GmicR_1.23.0.zip PackageFileSize: 3.453 MiB