Package: GmicR Version: 1.23.0 Command: /Library/Frameworks/R.framework/Resources/bin/R CMD check --install=check:GmicR.install-out.txt --library=/Library/Frameworks/R.framework/Resources/library --no-vignettes --timings GmicR_1.23.0.tar.gz StartedAt: 2025-07-15 21:12:56 -0400 (Tue, 15 Jul 2025) EndedAt: 2025-07-15 21:31:16 -0400 (Tue, 15 Jul 2025) EllapsedTime: 1100.2 seconds RetCode: 0 Status: WARNINGS CheckDir: GmicR.Rcheck Warnings: 1