Package: GlobalAncova Version: 4.27.0 Command: F:\biocbuild\bbs-3.22-bioc\R\bin\R.exe CMD INSTALL GlobalAncova StartedAt: 2025-07-20 16:41:15 -0400 (Sun, 20 Jul 2025) EndedAt: 2025-07-20 16:42:04 -0400 (Sun, 20 Jul 2025) EllapsedTime: 48.7 seconds RetCode: 0 Status: OK