Package: GlobalAncova Version: 4.27.0 Command: rm -rf GlobalAncova.buildbin-libdir && mkdir GlobalAncova.buildbin-libdir && F:\biocbuild\bbs-3.22-bioc\R\bin\R.exe CMD INSTALL --build --library=GlobalAncova.buildbin-libdir GlobalAncova_4.27.0.tar.gz StartedAt: 2025-07-21 09:10:21 -0400 (Mon, 21 Jul 2025) EndedAt: 2025-07-21 09:11:37 -0400 (Mon, 21 Jul 2025) EllapsedTime: 75.9 seconds RetCode: 0 Status: OK PackageFile: GlobalAncova_4.27.0.zip PackageFileSize: 1.361 MiB