Package: GlobalAncova Version: 4.27.0 Command: /home/biocbuild/bbs-3.22-bioc/R/bin/R CMD check --install=check:GlobalAncova.install-out.txt --library=/home/biocbuild/bbs-3.22-bioc/R/site-library --timings GlobalAncova_4.27.0.tar.gz StartedAt: 2025-07-15 22:44:33 -0400 (Tue, 15 Jul 2025) EndedAt: 2025-07-15 22:53:57 -0400 (Tue, 15 Jul 2025) EllapsedTime: 564.6 seconds RetCode: 0 Status: WARNINGS CheckDir: GlobalAncova.Rcheck Warnings: 1