Package: GlobalAncova Version: 4.27.0 Command: /Library/Frameworks/R.framework/Resources/bin/R CMD check --install=check:GlobalAncova.install-out.txt --library=/Library/Frameworks/R.framework/Resources/library --no-vignettes --timings GlobalAncova_4.27.0.tar.gz StartedAt: 2025-07-07 19:28:23 -0400 (Mon, 07 Jul 2025) EndedAt: 2025-07-07 19:29:27 -0400 (Mon, 07 Jul 2025) EllapsedTime: 63.8 seconds RetCode: 0 Status: WARNINGS CheckDir: GlobalAncova.Rcheck Warnings: 1